BEGIN:VCALENDAR
VERSION:2.0
PRODID:-//www.asteraz.org//NONSGML kigkonsult.se iCalcreator 2.30.10//
CALSCALE:GREGORIAN
METHOD:PUBLISH
UID:3624a15b-11be-46b3-805f-ac40b31c76b6
X-WR-CALDESC:Slip on your dancing shoes and dance the afternoon away! Enjoy
  live music. Capacity is limited. \n\nCost per person is $5.
X-WR-RELCALID:128e05998536e393521ac9d858b47f6d
X-WR-TIMEZONE:America/Denver
BEGIN:VTIMEZONE
TZID:America/Denver
BEGIN:STANDARD
TZNAME:MST
DTSTART:20311102T020000
TZOFFSETFROM:-0600
TZOFFSETTO:-0700
RDATE:20321107T020000
END:STANDARD
BEGIN:DAYLIGHT
TZNAME:MDT
DTSTART:20310309T020000
TZOFFSETFROM:-0700
TZOFFSETTO:-0600
RDATE:20320314T020000
RDATE:20330313T020000
END:DAYLIGHT
END:VTIMEZONE
BEGIN:VEVENT
UID:9021928f-62ff-49a3-9150-74e7b7b057ec
DTSTAMP:20260425T171024Z
DESCRIPTION:Slip on your dancing shoes and dance the afternoon away! Enjoy 
 live music. Capacity is limited. \n\nCost per person is $5.
DTSTART;TZID=America/Denver:20311126T130000
DTEND;TZID=America/Denver:20311126T150000
LOCATION:Red Mountain Senior Center
SUMMARY:RM Dance Party
END:VEVENT
END:VCALENDAR
