BEGIN:VCALENDAR
VERSION:2.0
PRODID:-//www.asteraz.org//NONSGML kigkonsult.se iCalcreator 2.30.10//
CALSCALE:GREGORIAN
METHOD:PUBLISH
UID:18f60088-5811-468b-a34a-baaac09ef3e4
X-WR-CALDESC:Join us for a fun game of Canasta every Wednesday and Friday a
 fternoon at the Red Mountain Senior Center.
X-WR-RELCALID:ec1cdeae74caba4b00f9699d25c66f51
X-WR-TIMEZONE:America/Denver
BEGIN:VTIMEZONE
TZID:America/Denver
BEGIN:STANDARD
TZNAME:MST
DTSTART:20311102T020000
TZOFFSETFROM:-0600
TZOFFSETTO:-0700
RDATE:20321107T020000
END:STANDARD
BEGIN:DAYLIGHT
TZNAME:MDT
DTSTART:20310309T020000
TZOFFSETFROM:-0700
TZOFFSETTO:-0600
RDATE:20320314T020000
RDATE:20330313T020000
END:DAYLIGHT
END:VTIMEZONE
BEGIN:VEVENT
UID:dd29c471-629c-4bec-9c6c-8835aa0d4473
DTSTAMP:20260425T171231Z
DESCRIPTION:Join us for a fun game of Canasta every Wednesday and Friday af
 ternoon at the Red Mountain Senior Center.
DTSTART;TZID=America/Denver:20311126T123000
DTEND;TZID=America/Denver:20311126T150000
LOCATION:7550 East Adobe Street\, Mesa\, AZ 85207 US
SUMMARY:Canasta
END:VEVENT
END:VCALENDAR
