BEGIN:VCALENDAR
VERSION:2.0
PRODID:-//www.asteraz.org//NONSGML kigkonsult.se iCalcreator 2.30.10//
CALSCALE:GREGORIAN
METHOD:PUBLISH
UID:5a49cbab-48c0-40e6-8f04-abf36766c78b
X-WR-CALDESC:Cost: $25/month plus supplies\n\nJoin us for an adventure in a
 ll things quilting! Instructor Clarice will teach quilters of all levels. 
 Limited spots\, RSVP for more info.
X-WR-RELCALID:601bcefe4542e1c93e10e9325c0c7712
X-WR-TIMEZONE:America/Denver
BEGIN:VTIMEZONE
TZID:America/Denver
BEGIN:STANDARD
TZNAME:MST
DTSTART:20311102T020000
TZOFFSETFROM:-0600
TZOFFSETTO:-0700
RDATE:20321107T020000
END:STANDARD
BEGIN:DAYLIGHT
TZNAME:MDT
DTSTART:20310309T020000
TZOFFSETFROM:-0700
TZOFFSETTO:-0600
RDATE:20320314T020000
RDATE:20330313T020000
END:DAYLIGHT
END:VTIMEZONE
BEGIN:VEVENT
UID:abb60d54-b44c-49c3-8c38-d7290501b0cf
DTSTAMP:20260425T170711Z
DESCRIPTION:Cost: $25/month plus supplies\n\nJoin us for an adventure in al
 l things quilting! Instructor Clarice will teach quilters of all levels. L
 imited spots\, RSVP for more info.
DTSTART;TZID=America/Denver:20311126T120000
DTEND;TZID=America/Denver:20311126T150000
LOCATION:247 N. Macdonald Street\, Mesa\, AZ 85201 US
SUMMARY:Quilting Class
END:VEVENT
END:VCALENDAR
