BEGIN:VCALENDAR
VERSION:2.0
PRODID:-//www.asteraz.org//NONSGML kigkonsult.se iCalcreator 2.30.10//
CALSCALE:GREGORIAN
METHOD:PUBLISH
UID:201921bb-813f-4130-a66f-35cef403ebbe
X-WR-CALDESC:Join us every Tuesday and Thursday in the Mesa Downtown Senior
  Center fitness center to connect with a fitness trainer to help you stay 
 in shape and reach your fitness goals.
X-WR-RELCALID:a0ab53490039e163d29199f7765d1394
X-WR-TIMEZONE:America/Denver
BEGIN:VTIMEZONE
TZID:America/Denver
BEGIN:STANDARD
TZNAME:MST
DTSTART:20311102T020000
TZOFFSETFROM:-0600
TZOFFSETTO:-0700
RDATE:20321107T020000
END:STANDARD
BEGIN:DAYLIGHT
TZNAME:MDT
DTSTART:20310309T020000
TZOFFSETFROM:-0700
TZOFFSETTO:-0600
RDATE:20320314T020000
RDATE:20330313T020000
END:DAYLIGHT
END:VTIMEZONE
BEGIN:VEVENT
UID:a1d30dce-b039-4e97-ba76-0e96c9af35f9
DTSTAMP:20260425T171112Z
DESCRIPTION:Join us every Tuesday and Thursday in the Mesa Downtown Senior 
 Center fitness center to connect with a fitness trainer to help you stay i
 n shape and reach your fitness goals.
DTSTART;TZID=America/Denver:20311125T103000
DTEND;TZID=America/Denver:20311125T140000
LOCATION:247 N. Macdonald Street\, Mesa\, AZ 85201 US
SUMMARY:Fitness Trainer
END:VEVENT
END:VCALENDAR
