BEGIN:VCALENDAR
VERSION:2.0
PRODID:-//www.asteraz.org//NONSGML kigkonsult.se iCalcreator 2.30.10//
CALSCALE:GREGORIAN
METHOD:PUBLISH
UID:316d7437-f56e-484c-ba79-01d474e79d0d
X-WR-CALDESC:Have fun singing golden-oldies or just watching others try in 
 this judgment free zone.
X-WR-RELCALID:559dc0f3e365e5beb44f068538387924
X-WR-TIMEZONE:America/Denver
BEGIN:VTIMEZONE
TZID:America/Denver
BEGIN:STANDARD
TZNAME:MST
DTSTART:20311102T020000
TZOFFSETFROM:-0600
TZOFFSETTO:-0700
RDATE:20321107T020000
END:STANDARD
BEGIN:DAYLIGHT
TZNAME:MDT
DTSTART:20310309T020000
TZOFFSETFROM:-0700
TZOFFSETTO:-0600
RDATE:20320314T020000
RDATE:20330313T020000
END:DAYLIGHT
END:VTIMEZONE
BEGIN:VEVENT
UID:1d8fa319-2ceb-4c63-add9-571a3aa18400
DTSTAMP:20260425T171714Z
DESCRIPTION:Have fun singing golden-oldies or just watching others try in t
 his judgment free zone.
DTSTART;TZID=America/Denver:20311124T123000
DTEND;TZID=America/Denver:20311124T133000
LOCATION:Mesa Downtown
SUMMARY:DT Karaoke Mondays
END:VEVENT
END:VCALENDAR
