BEGIN:VCALENDAR
VERSION:2.0
PRODID:-//www.asteraz.org//NONSGML kigkonsult.se iCalcreator 2.30.10//
CALSCALE:GREGORIAN
METHOD:PUBLISH
UID:78dba7e7-0052-4ffb-b503-cb59b8a018d3
X-WR-CALDESC:Create magical diamond art!
X-WR-RELCALID:28fcd009951ebb3bfbeee9f3d6241aa2
X-WR-TIMEZONE:America/Denver
BEGIN:VTIMEZONE
TZID:America/Denver
BEGIN:STANDARD
TZNAME:MST
DTSTART:20311102T020000
TZOFFSETFROM:-0600
TZOFFSETTO:-0700
RDATE:20321107T020000
END:STANDARD
BEGIN:DAYLIGHT
TZNAME:MDT
DTSTART:20310309T020000
TZOFFSETFROM:-0700
TZOFFSETTO:-0600
RDATE:20320314T020000
RDATE:20330313T020000
END:DAYLIGHT
END:VTIMEZONE
BEGIN:VEVENT
UID:8c2a5d09-969f-42ae-9da9-78c92033ef72
DTSTAMP:20260425T171327Z
DESCRIPTION:Create magical diamond art!
DTSTART;TZID=America/Denver:20311124T123000
DTEND;TZID=America/Denver:20311124T150000
LOCATION:7550 East Adobe Street\, Mesa\, AZ 85207 US
SUMMARY:Diamond Art
END:VEVENT
END:VCALENDAR
