BEGIN:VCALENDAR
VERSION:2.0
PRODID:-//www.asteraz.org//NONSGML kigkonsult.se iCalcreator 2.30.10//
CALSCALE:GREGORIAN
METHOD:PUBLISH
UID:b1bc0f1a-c888-4070-89e0-617b06a46cb6
X-WR-CALDESC:Join instructor Jeanette for a great workout using bands\, wei
 ghts and more. Capacity is limited\, so RSVP today!
X-WR-RELCALID:b174c86000d19627d3d83a0bb3529bc0
X-WR-TIMEZONE:America/Denver
BEGIN:VTIMEZONE
TZID:America/Denver
BEGIN:STANDARD
TZNAME:MST
DTSTART:20311102T020000
TZOFFSETFROM:-0600
TZOFFSETTO:-0700
RDATE:20321107T020000
END:STANDARD
BEGIN:DAYLIGHT
TZNAME:MDT
DTSTART:20310309T020000
TZOFFSETFROM:-0700
TZOFFSETTO:-0600
RDATE:20320314T020000
RDATE:20330313T020000
END:DAYLIGHT
END:VTIMEZONE
BEGIN:VEVENT
UID:64b8c77f-02bc-4727-b887-070f092885a4
DTSTAMP:20260425T171758Z
DESCRIPTION:Join instructor Jeanette for a great workout using bands\, weig
 hts and more. Capacity is limited\, so RSVP today!
DTSTART;TZID=America/Denver:20311121T130000
DTEND;TZID=America/Denver:20311121T140000
LOCATION:247 N. Macdonald Street\, Mesa\, AZ 85201 US
SUMMARY:Geri Fit by Area Agency on Aging
END:VEVENT
END:VCALENDAR
