BEGIN:VCALENDAR
VERSION:2.0
PRODID:-//www.asteraz.org//NONSGML kigkonsult.se iCalcreator 2.30.10//
CALSCALE:GREGORIAN
METHOD:PUBLISH
UID:c465f233-86eb-4735-b97d-7473f6115b3e
X-WR-CALDESC:Learn gentle movement and focused breathing exercises.
X-WR-RELCALID:cc8241e2fe3a022a9fe0173efbf00673
X-WR-TIMEZONE:America/Denver
BEGIN:VTIMEZONE
TZID:America/Denver
BEGIN:STANDARD
TZNAME:MST
DTSTART:20311102T020000
TZOFFSETFROM:-0600
TZOFFSETTO:-0700
RDATE:20321107T020000
END:STANDARD
BEGIN:DAYLIGHT
TZNAME:MDT
DTSTART:20310309T020000
TZOFFSETFROM:-0700
TZOFFSETTO:-0600
RDATE:20320314T020000
RDATE:20330313T020000
END:DAYLIGHT
END:VTIMEZONE
BEGIN:VEVENT
UID:8e94f9aa-4a19-471b-8bf9-4168122e78d8
DTSTAMP:20260425T170911Z
DESCRIPTION:Learn gentle movement and focused breathing exercises.
DTSTART;TZID=America/Denver:20311121T094500
DTEND;TZID=America/Denver:20311121T104500
LOCATION:Mesa Downtown
SUMMARY:DT Qigong
END:VEVENT
END:VCALENDAR
