BEGIN:VCALENDAR
VERSION:2.0
PRODID:-//www.asteraz.org//NONSGML kigkonsult.se iCalcreator 2.30.10//
CALSCALE:GREGORIAN
METHOD:PUBLISH
UID:64aafef2-870a-49d0-84a2-372f3eb42612
X-WR-CALDESC:Have fun creating jewelry\, origami\, and other arts and craft
 s.
X-WR-RELCALID:65dfa808199957707bcd9e4abe42defb
X-WR-TIMEZONE:America/Denver
BEGIN:VTIMEZONE
TZID:America/Denver
BEGIN:STANDARD
TZNAME:MST
DTSTART:20311102T020000
TZOFFSETFROM:-0600
TZOFFSETTO:-0700
RDATE:20321107T020000
END:STANDARD
BEGIN:DAYLIGHT
TZNAME:MDT
DTSTART:20310309T020000
TZOFFSETFROM:-0700
TZOFFSETTO:-0600
RDATE:20320314T020000
RDATE:20330313T020000
END:DAYLIGHT
END:VTIMEZONE
BEGIN:VEVENT
UID:619abab5-c200-4daf-9e87-738d029dd632
DTSTAMP:20260425T170712Z
DESCRIPTION:Have fun creating jewelry\, origami\, and other arts and crafts
 .
DTSTART;TZID=America/Denver:20311121T090000
DTEND;TZID=America/Denver:20311121T110000
LOCATION:247 N. Macdonald Street\, Mesa\, AZ 85201 US
SUMMARY:Arts & Crafts
END:VEVENT
END:VCALENDAR
