BEGIN:VCALENDAR
VERSION:2.0
PRODID:-//www.asteraz.org//NONSGML kigkonsult.se iCalcreator 2.30.10//
CALSCALE:GREGORIAN
METHOD:PUBLISH
UID:2b6e299c-8ea0-4757-9306-1bdae02d1fe7
X-WR-CALDESC:Just like the real thing! Join us every Monday and Friday for 
 a lively game of Wii Bowling. Never played before? No problem! Wii Bowling
  is intuitive and easy to learn. Every week\, plenty of newcomers give it 
 a try\, and some even get a few Strikes!
X-WR-RELCALID:45b01531fcf974480793cfee1568c6af
X-WR-TIMEZONE:America/Denver
BEGIN:VTIMEZONE
TZID:America/Denver
BEGIN:STANDARD
TZNAME:MST
DTSTART:20311102T020000
TZOFFSETFROM:-0600
TZOFFSETTO:-0700
RDATE:20321107T020000
END:STANDARD
BEGIN:DAYLIGHT
TZNAME:MDT
DTSTART:20310309T020000
TZOFFSETFROM:-0700
TZOFFSETTO:-0600
RDATE:20320314T020000
RDATE:20330313T020000
END:DAYLIGHT
END:VTIMEZONE
BEGIN:VEVENT
UID:107d69be-03e7-4824-9e1d-86e6e2044ca3
DTSTAMP:20260425T170714Z
DESCRIPTION:Just like the real thing! Join us every Monday and Friday for a
  lively game of Wii Bowling. Never played before? No problem! Wii Bowling 
 is intuitive and easy to learn. Every week\, plenty of newcomers give it a
  try\, and some even get a few Strikes!
DTSTART;TZID=America/Denver:20311121T080000
DTEND;TZID=America/Denver:20311121T110000
LOCATION:247 N. Macdonald Street\, Mesa\, AL 85201 US
SUMMARY:Wii Bowling
END:VEVENT
END:VCALENDAR
