BEGIN:VCALENDAR
VERSION:2.0
PRODID:-//www.asteraz.org//NONSGML kigkonsult.se iCalcreator 2.30.10//
CALSCALE:GREGORIAN
METHOD:PUBLISH
UID:63f107dd-ddcf-4363-be18-6065ec63bab6
X-WR-CALDESC:Ever wanted to try your hand at acting? Here's your chance! Jo
 in our Senior Players group every Thursday to test out your acting chops -
  no experience needed\, and all are welcome!
X-WR-RELCALID:0ea143b4a5de7348bebe7f75e7c7f594
X-WR-TIMEZONE:America/Denver
BEGIN:VTIMEZONE
TZID:America/Denver
BEGIN:STANDARD
TZNAME:MST
DTSTART:20311102T020000
TZOFFSETFROM:-0600
TZOFFSETTO:-0700
RDATE:20321107T020000
END:STANDARD
BEGIN:DAYLIGHT
TZNAME:MDT
DTSTART:20310309T020000
TZOFFSETFROM:-0700
TZOFFSETTO:-0600
RDATE:20320314T020000
RDATE:20330313T020000
END:DAYLIGHT
END:VTIMEZONE
BEGIN:VEVENT
UID:83adfca1-55e9-40ba-9770-8b7604421923
DTSTAMP:20260425T171757Z
DESCRIPTION:Ever wanted to try your hand at acting? Here's your chance! Joi
 n our Senior Players group every Thursday to test out your acting chops - 
 no experience needed\, and all are welcome!
DTSTART;TZID=America/Denver:20311120T130000
DTEND;TZID=America/Denver:20311120T140000
LOCATION:247 N. Macdonald Street\, Mesa\, AZ 85201 US
SUMMARY:Senior Players Theater Group
END:VEVENT
END:VCALENDAR
