BEGIN:VCALENDAR
VERSION:2.0
PRODID:-//www.asteraz.org//NONSGML kigkonsult.se iCalcreator 2.30.10//
CALSCALE:GREGORIAN
METHOD:PUBLISH
UID:7edb7dc8-8a45-441c-a9f3-135880a033d7
X-WR-CALDESC:Come enjoy a good film and fresh popcorn at Aster's Movie Club
 .\nMovies are free to attend with complimentary popcorn. Additional snacks
  are available for purchase in the Café.
X-WR-RELCALID:3c928c1fe18f203d3a8ff974b324f775
X-WR-TIMEZONE:America/Denver
BEGIN:VTIMEZONE
TZID:America/Denver
BEGIN:STANDARD
TZNAME:MST
DTSTART:20311102T020000
TZOFFSETFROM:-0600
TZOFFSETTO:-0700
RDATE:20321107T020000
END:STANDARD
BEGIN:DAYLIGHT
TZNAME:MDT
DTSTART:20310309T020000
TZOFFSETFROM:-0700
TZOFFSETTO:-0600
RDATE:20320314T020000
RDATE:20330313T020000
END:DAYLIGHT
END:VTIMEZONE
BEGIN:VEVENT
UID:8d6db017-8565-4aff-94d5-e9a6a30b923a
DTSTAMP:20260425T171923Z
DESCRIPTION:Come enjoy a good film and fresh popcorn at Aster's Movie Club.
 \nMovies are free to attend with complimentary popcorn. Additional snacks 
 are available for purchase in the Café.
DTSTART;TZID=America/Denver:20311120T123000
DTEND;TZID=America/Denver:20311120T150000
LOCATION:Mesa Downtown
SUMMARY:DT Movie Club
END:VEVENT
END:VCALENDAR
