BEGIN:VCALENDAR
VERSION:2.0
PRODID:-//www.asteraz.org//NONSGML kigkonsult.se iCalcreator 2.30.10//
CALSCALE:GREGORIAN
METHOD:PUBLISH
UID:168a4e3f-47af-414e-958f-50cae1db7d63
X-WR-CALDESC:
X-WR-RELCALID:491fb9c89321af245e99f96daef65263
X-WR-TIMEZONE:America/Denver
BEGIN:VTIMEZONE
TZID:America/Denver
BEGIN:STANDARD
TZNAME:MST
DTSTART:20311102T020000
TZOFFSETFROM:-0600
TZOFFSETTO:-0700
RDATE:20321107T020000
END:STANDARD
BEGIN:DAYLIGHT
TZNAME:MDT
DTSTART:20310309T020000
TZOFFSETFROM:-0700
TZOFFSETTO:-0600
RDATE:20320314T020000
RDATE:20330313T020000
END:DAYLIGHT
END:VTIMEZONE
BEGIN:VEVENT
UID:ed0c13a6-94ff-4a32-b161-f7d0ed14de20
DTSTAMP:20260425T171756Z
DESCRIPTION:
DTSTART;TZID=America/Denver:20311120T094500
DTEND;TZID=America/Denver:20311120T104500
LOCATION:Mesa Downtown
SUMMARY:DT Chair Yoga
END:VEVENT
END:VCALENDAR
