BEGIN:VCALENDAR
VERSION:2.0
PRODID:-//www.asteraz.org//NONSGML kigkonsult.se iCalcreator 2.30.10//
CALSCALE:GREGORIAN
METHOD:PUBLISH
UID:9dd5c929-cb19-4143-9758-51a22de56d48
X-WR-CALDESC:The plane is waiting on the tarmac to take you to fascinating 
 countries around the world.\n\nCapacity is limited.
X-WR-RELCALID:92552a1a047c8d6d41045c479dfd503d
X-WR-TIMEZONE:America/Denver
BEGIN:VTIMEZONE
TZID:America/Denver
BEGIN:STANDARD
TZNAME:MST
DTSTART:20311102T020000
TZOFFSETFROM:-0600
TZOFFSETTO:-0700
RDATE:20321107T020000
END:STANDARD
BEGIN:DAYLIGHT
TZNAME:MDT
DTSTART:20310309T020000
TZOFFSETFROM:-0700
TZOFFSETTO:-0600
RDATE:20320314T020000
RDATE:20330313T020000
END:DAYLIGHT
END:VTIMEZONE
BEGIN:VEVENT
UID:3e331552-02ee-4815-a752-230300a34b00
DTSTAMP:20260425T171113Z
DESCRIPTION:The plane is waiting on the tarmac to take you to fascinating c
 ountries around the world.\n\nCapacity is limited.
DTSTART;TZID=America/Denver:20311117T140000
DTEND;TZID=America/Denver:20311117T150000
LOCATION:Mesa Downtown
SUMMARY:DT Virtual Travel
END:VEVENT
END:VCALENDAR
