BEGIN:VCALENDAR
VERSION:2.0
PRODID:-//www.asteraz.org//NONSGML kigkonsult.se iCalcreator 2.30.10//
CALSCALE:GREGORIAN
METHOD:PUBLISH
UID:4cd59043-f601-4969-8733-d33726949b55
X-WR-CALDESC:Join your fellow artists and hobbyists as you have fun drawing
  portraits from live models. Capacity is limited. The class costs $5/perso
 n.
X-WR-RELCALID:cab48a87ece1c44b9cbf2afb45b2d91e
X-WR-TIMEZONE:America/Denver
BEGIN:VTIMEZONE
TZID:America/Denver
BEGIN:STANDARD
TZNAME:MST
DTSTART:20311102T020000
TZOFFSETFROM:-0600
TZOFFSETTO:-0700
RDATE:20321107T020000
END:STANDARD
BEGIN:DAYLIGHT
TZNAME:MDT
DTSTART:20310309T020000
TZOFFSETFROM:-0700
TZOFFSETTO:-0600
RDATE:20320314T020000
RDATE:20330313T020000
END:DAYLIGHT
END:VTIMEZONE
BEGIN:VEVENT
UID:6a8712a3-9b1a-44b5-b7cc-fa96e1445e5c
DTSTAMP:20260425T171540Z
DESCRIPTION:Join your fellow artists and hobbyists as you have fun drawing 
 portraits from live models. Capacity is limited. The class costs $5/person
 .
DTSTART;TZID=America/Denver:20311114T083000
DTEND;TZID=America/Denver:20311114T123000
LOCATION:7550 East Adobe Street\, Mesa\, AZ 85207 US
SUMMARY:Portrait Painting Workshop
END:VEVENT
END:VCALENDAR
