BEGIN:VCALENDAR
VERSION:2.0
PRODID:-//www.asteraz.org//NONSGML kigkonsult.se iCalcreator 2.30.10//
CALSCALE:GREGORIAN
METHOD:PUBLISH
UID:1624fbd5-5784-467c-874a-9af4afc698f6
X-WR-CALDESC:Enjoy adult coloring pages and listen to relaxing instrumental
  jazz every Thursday at the Red Mountain Senior Center.
X-WR-RELCALID:54f055a2d940c72267c3e58442eb573f
X-WR-TIMEZONE:America/Denver
BEGIN:VTIMEZONE
TZID:America/Denver
BEGIN:STANDARD
TZNAME:MST
DTSTART:20311102T020000
TZOFFSETFROM:-0600
TZOFFSETTO:-0700
RDATE:20321107T020000
END:STANDARD
BEGIN:DAYLIGHT
TZNAME:MDT
DTSTART:20310309T020000
TZOFFSETFROM:-0700
TZOFFSETTO:-0600
RDATE:20320314T020000
RDATE:20330313T020000
END:DAYLIGHT
END:VTIMEZONE
BEGIN:VEVENT
UID:44923090-0f65-461d-a3c6-0565b7edd64e
DTSTAMP:20260425T171723Z
DESCRIPTION:Enjoy adult coloring pages and listen to relaxing instrumental 
 jazz every Thursday at the Red Mountain Senior Center.
DTSTART;TZID=America/Denver:20311113T093000
DTEND;TZID=America/Denver:20311113T103000
LOCATION:7550 East Adobe Street\, Mesa\, AZ 85207 US
SUMMARY:Red Mountain Coloring Lounge
END:VEVENT
END:VCALENDAR
