BEGIN:VCALENDAR
VERSION:2.0
PRODID:-//www.asteraz.org//NONSGML kigkonsult.se iCalcreator 2.30.10//
CALSCALE:GREGORIAN
METHOD:PUBLISH
UID:cac702a5-d00b-41f0-a12b-26b049b290c0
X-WR-CALDESC:Slip on your dancing shoes and dance the afternoon away! Enjoy
  live music. Capacity is limited. \n\nCost per person is $5.
X-WR-RELCALID:a6bf8b16a85c11b9f0fd25f86f28e52d
X-WR-TIMEZONE:America/Denver
BEGIN:VTIMEZONE
TZID:America/Denver
BEGIN:STANDARD
TZNAME:MST
DTSTART:20311102T020000
TZOFFSETFROM:-0600
TZOFFSETTO:-0700
RDATE:20321107T020000
END:STANDARD
BEGIN:DAYLIGHT
TZNAME:MDT
DTSTART:20310309T020000
TZOFFSETFROM:-0700
TZOFFSETTO:-0600
RDATE:20320314T020000
RDATE:20330313T020000
END:DAYLIGHT
END:VTIMEZONE
BEGIN:VEVENT
UID:0766ea7d-6c8d-4233-970b-6b731423a106
DTSTAMP:20260425T170852Z
DESCRIPTION:Slip on your dancing shoes and dance the afternoon away! Enjoy 
 live music. Capacity is limited. \n\nCost per person is $5.
DTSTART;TZID=America/Denver:20311112T130000
DTEND;TZID=America/Denver:20311112T150000
LOCATION:Red Mountain Senior Center
SUMMARY:RM Dance Party
END:VEVENT
END:VCALENDAR
