BEGIN:VCALENDAR
VERSION:2.0
PRODID:-//www.asteraz.org//NONSGML kigkonsult.se iCalcreator 2.30.10//
CALSCALE:GREGORIAN
METHOD:PUBLISH
UID:cefd48a3-eebd-4f8b-b887-f969085e8ef9
X-WR-CALDESC:Join instructor Jeanette for a great workout using bands\, wei
 ghts and more. Capacity is limited\, so RSVP today!
X-WR-RELCALID:e446e4756eaa0c70c8cb182d06856c5e
X-WR-TIMEZONE:America/Denver
BEGIN:VTIMEZONE
TZID:America/Denver
BEGIN:STANDARD
TZNAME:MST
DTSTART:20311102T020000
TZOFFSETFROM:-0600
TZOFFSETTO:-0700
RDATE:20321107T020000
END:STANDARD
BEGIN:DAYLIGHT
TZNAME:MDT
DTSTART:20310309T020000
TZOFFSETFROM:-0700
TZOFFSETTO:-0600
RDATE:20320314T020000
RDATE:20330313T020000
END:DAYLIGHT
END:VTIMEZONE
BEGIN:VEVENT
UID:c49b1e4e-fce3-4fa3-951f-757748dd0d60
DTSTAMP:20260425T172007Z
DESCRIPTION:Join instructor Jeanette for a great workout using bands\, weig
 hts and more. Capacity is limited\, so RSVP today!
DTSTART;TZID=America/Denver:20311107T130000
DTEND;TZID=America/Denver:20311107T140000
LOCATION:247 N. Macdonald Street\, Mesa\, AZ 85201 US
SUMMARY:Geri Fit by Area Agency on Aging
END:VEVENT
END:VCALENDAR
