BEGIN:VCALENDAR
VERSION:2.0
PRODID:-//www.asteraz.org//NONSGML kigkonsult.se iCalcreator 2.30.10//
CALSCALE:GREGORIAN
METHOD:PUBLISH
UID:8e70c179-92e0-4a1d-8b5a-9039f1c40945
X-WR-CALDESC:Join us for a fun game of Canasta every Wednesday and Friday a
 fternoon at the Red Mountain Senior Center.
X-WR-RELCALID:d5d5a7395de984e9f1dabf0f2159e512
X-WR-TIMEZONE:America/Denver
BEGIN:VTIMEZONE
TZID:America/Denver
BEGIN:STANDARD
TZNAME:MST
DTSTART:20311102T020000
TZOFFSETFROM:-0600
TZOFFSETTO:-0700
RDATE:20321107T020000
END:STANDARD
BEGIN:DAYLIGHT
TZNAME:MDT
DTSTART:20310309T020000
TZOFFSETFROM:-0700
TZOFFSETTO:-0600
RDATE:20320314T020000
RDATE:20330313T020000
END:DAYLIGHT
END:VTIMEZONE
BEGIN:VEVENT
UID:37990a42-0184-4675-8d9f-2122f667df4a
DTSTAMP:20260425T170720Z
DESCRIPTION:Join us for a fun game of Canasta every Wednesday and Friday af
 ternoon at the Red Mountain Senior Center.
DTSTART;TZID=America/Denver:20311107T123000
DTEND;TZID=America/Denver:20311107T150000
LOCATION:7550 East Adobe Street\, Mesa\, AZ 85207 US
SUMMARY:Canasta
END:VEVENT
END:VCALENDAR
