BEGIN:VCALENDAR
VERSION:2.0
PRODID:-//www.asteraz.org//NONSGML kigkonsult.se iCalcreator 2.30.10//
CALSCALE:GREGORIAN
METHOD:PUBLISH
UID:fcea2322-b167-4db4-9bf4-9b17754c3d9f
X-WR-CALDESC:Facilitated by EMPACT. A bereavement support group for seniors
 . Connect with others who are grieving the loss of a loved one and connect
  with education and resources.
X-WR-RELCALID:a208eecd416bf8c1ad81f85855ad8a77
X-WR-TIMEZONE:America/Denver
BEGIN:VTIMEZONE
TZID:America/Denver
BEGIN:STANDARD
TZNAME:MST
DTSTART:20311102T020000
TZOFFSETFROM:-0600
TZOFFSETTO:-0700
RDATE:20321107T020000
END:STANDARD
BEGIN:DAYLIGHT
TZNAME:MDT
DTSTART:20310309T020000
TZOFFSETFROM:-0700
TZOFFSETTO:-0600
RDATE:20320314T020000
RDATE:20330313T020000
END:DAYLIGHT
END:VTIMEZONE
BEGIN:VEVENT
UID:0de548b6-761d-4cb3-9fc4-624a0bf9abd5
DTSTAMP:20260425T170821Z
DESCRIPTION:Facilitated by EMPACT. A bereavement support group for seniors.
  Connect with others who are grieving the loss of a loved one and connect 
 with education and resources.
DTSTART;TZID=America/Denver:20311107T100000
DTEND;TZID=America/Denver:20311107T110000
LOCATION:7550 East Adobe Street\, Mesa\, AZ 85207 US
SUMMARY:Grief and Loss Support Group
END:VEVENT
END:VCALENDAR
