BEGIN:VCALENDAR
VERSION:2.0
PRODID:-//www.asteraz.org//NONSGML kigkonsult.se iCalcreator 2.30.10//
CALSCALE:GREGORIAN
METHOD:PUBLISH
UID:ac14c117-03fd-47b4-b7b7-119f1afee5b7
X-WR-CALDESC:Enjoy adult coloring pages and listen to relaxing instrumental
  jazz every Thursday at the Red Mountain Senior Center.
X-WR-RELCALID:777fdee388487902c2535be045dc41cd
X-WR-TIMEZONE:America/Denver
BEGIN:VTIMEZONE
TZID:America/Denver
BEGIN:STANDARD
TZNAME:MST
DTSTART:20311102T020000
TZOFFSETFROM:-0600
TZOFFSETTO:-0700
RDATE:20321107T020000
END:STANDARD
BEGIN:DAYLIGHT
TZNAME:MDT
DTSTART:20310309T020000
TZOFFSETFROM:-0700
TZOFFSETTO:-0600
RDATE:20320314T020000
RDATE:20330313T020000
END:DAYLIGHT
END:VTIMEZONE
BEGIN:VEVENT
UID:c0365f61-229e-4c93-ab92-d98a2565bbe4
DTSTAMP:20260425T171643Z
DESCRIPTION:Enjoy adult coloring pages and listen to relaxing instrumental 
 jazz every Thursday at the Red Mountain Senior Center.
DTSTART;TZID=America/Denver:20311106T093000
DTEND;TZID=America/Denver:20311106T103000
LOCATION:7550 East Adobe Street\, Mesa\, AZ 85207 US
SUMMARY:Red Mountain Coloring Lounge
END:VEVENT
END:VCALENDAR
