BEGIN:VCALENDAR
VERSION:2.0
PRODID:-//www.asteraz.org//NONSGML kigkonsult.se iCalcreator 2.30.10//
CALSCALE:GREGORIAN
METHOD:PUBLISH
UID:041d9ec4-1166-47f8-bbd5-c50b7aa24fbc
X-WR-CALDESC:Join us every Wednesday afternoon to play card and board games
 . Which games? You'll have to join us to find out!
X-WR-RELCALID:92f32d34aaf02af5e8734a3b30759ee3
X-WR-TIMEZONE:America/Denver
BEGIN:VTIMEZONE
TZID:America/Denver
BEGIN:STANDARD
TZNAME:MST
DTSTART:20311102T020000
TZOFFSETFROM:-0600
TZOFFSETTO:-0700
RDATE:20321107T020000
END:STANDARD
BEGIN:DAYLIGHT
TZNAME:MDT
DTSTART:20310309T020000
TZOFFSETFROM:-0700
TZOFFSETTO:-0600
RDATE:20320314T020000
RDATE:20330313T020000
END:DAYLIGHT
END:VTIMEZONE
BEGIN:VEVENT
UID:4b639a93-1cae-4314-9a5b-ac397ab4ddfc
DTSTAMP:20260425T171424Z
DESCRIPTION:Join us every Wednesday afternoon to play card and board games.
  Which games? You'll have to join us to find out!
DTSTART;TZID=America/Denver:20311105T123000
DTEND;TZID=America/Denver:20311105T150000
LOCATION:7550 East Adobe Street\, Mesa\, AZ 85207 US
SUMMARY:Whatever Games We Play
END:VEVENT
END:VCALENDAR
