BEGIN:VCALENDAR
VERSION:2.0
PRODID:-//www.asteraz.org//NONSGML kigkonsult.se iCalcreator 2.30.10//
CALSCALE:GREGORIAN
METHOD:PUBLISH
UID:1ffb3488-137a-4144-b21e-7a62017b3e1e
X-WR-CALDESC:Our female participants come together for friendship & fun eve
 ry first and third Wednesday of the month.
X-WR-RELCALID:36ee646ea62b021d8771555be7810ce3
X-WR-TIMEZONE:America/Denver
BEGIN:VTIMEZONE
TZID:America/Denver
BEGIN:STANDARD
TZNAME:MST
DTSTART:20311102T020000
TZOFFSETFROM:-0600
TZOFFSETTO:-0700
RDATE:20321107T020000
END:STANDARD
BEGIN:DAYLIGHT
TZNAME:MDT
DTSTART:20310309T020000
TZOFFSETFROM:-0700
TZOFFSETTO:-0600
RDATE:20320314T020000
RDATE:20330313T020000
END:DAYLIGHT
END:VTIMEZONE
BEGIN:VEVENT
UID:c348849a-c394-4d37-a6ea-33c62a3b329b
DTSTAMP:20260425T171716Z
DESCRIPTION:Our female participants come together for friendship & fun ever
 y first and third Wednesday of the month.
DTSTART;TZID=America/Denver:20311105T093000
DTEND;TZID=America/Denver:20311105T103000
LOCATION:7550 East Adobe Street\, Mesa\, AZ 85207 US
SUMMARY:The Golden Gals
END:VEVENT
END:VCALENDAR
