BEGIN:VCALENDAR
VERSION:2.0
PRODID:-//www.asteraz.org//NONSGML kigkonsult.se iCalcreator 2.30.10//
CALSCALE:GREGORIAN
METHOD:PUBLISH
UID:acf0c828-f62f-492e-8b9d-c7f92d2723ae
X-WR-CALDESC:Join instructor Jeanette for a great workout using bands\, wei
 ghts and more. Capacity is limited\, so RSVP today!
X-WR-RELCALID:5ec3bf9cdb1f4eb55b227d536ed91ab5
X-WR-TIMEZONE:America/Denver
BEGIN:VTIMEZONE
TZID:America/Denver
BEGIN:STANDARD
TZNAME:MST
DTSTART:20311102T020000
TZOFFSETFROM:-0600
TZOFFSETTO:-0700
RDATE:20321107T020000
END:STANDARD
BEGIN:DAYLIGHT
TZNAME:MDT
DTSTART:20310309T020000
TZOFFSETFROM:-0700
TZOFFSETTO:-0600
RDATE:20320314T020000
RDATE:20330313T020000
END:DAYLIGHT
END:VTIMEZONE
BEGIN:VEVENT
UID:87e9f3a2-c387-4d59-80e2-0e84ed8897cc
DTSTAMP:20260425T171831Z
DESCRIPTION:Join instructor Jeanette for a great workout using bands\, weig
 hts and more. Capacity is limited\, so RSVP today!
DTSTART;TZID=America/Denver:20311104T130000
DTEND;TZID=America/Denver:20311104T140000
LOCATION:247 N. Macdonald Street\, Mesa\, AZ 85201 US
SUMMARY:Geri Fit by Area Agency on Aging
END:VEVENT
END:VCALENDAR
