BEGIN:VCALENDAR
VERSION:2.0
PRODID:-//www.asteraz.org//NONSGML kigkonsult.se iCalcreator 2.30.10//
CALSCALE:GREGORIAN
METHOD:PUBLISH
UID:770c4c49-612c-4b20-9b89-9d7f6c26b291
X-WR-CALDESC:Take a colorful journey into the world of art. Enjoy studying 
 the visual arts\, including painting\, sculpture\, architecture\, and othe
 r forms through the lens of the 'Art in Action' class series.
X-WR-RELCALID:2823cdcfaf9a0250b3ec93d1b5dd77d7
X-WR-TIMEZONE:America/Denver
BEGIN:VTIMEZONE
TZID:America/Denver
BEGIN:STANDARD
TZNAME:MST
DTSTART:20311102T020000
TZOFFSETFROM:-0600
TZOFFSETTO:-0700
RDATE:20321107T020000
END:STANDARD
BEGIN:DAYLIGHT
TZNAME:MDT
DTSTART:20310309T020000
TZOFFSETFROM:-0700
TZOFFSETTO:-0600
RDATE:20320314T020000
RDATE:20330313T020000
END:DAYLIGHT
END:VTIMEZONE
BEGIN:VEVENT
UID:2c82cdec-84b0-48d7-a737-e293f2ec7999
DTSTAMP:20260425T171229Z
DESCRIPTION:Take a colorful journey into the world of art. Enjoy studying t
 he visual arts\, including painting\, sculpture\, architecture\, and other
  forms through the lens of the 'Art in Action' class series.
DTSTART;TZID=America/Denver:20311104T093000
DTEND;TZID=America/Denver:20311104T103000
LOCATION:247 N. Macdonald Street\, Mesa\, AZ 85201 US
SUMMARY:Art in Action
END:VEVENT
END:VCALENDAR
