BEGIN:VCALENDAR
VERSION:2.0
PRODID:-//www.asteraz.org//NONSGML kigkonsult.se iCalcreator 2.30.10//
CALSCALE:GREGORIAN
METHOD:PUBLISH
UID:7ef735ba-37a3-4331-b16d-9fa82ae65e69
X-WR-CALDESC:Create magical diamond art!
X-WR-RELCALID:f04a7ef57ba1ba9e21bdf2adb007727e
X-WR-TIMEZONE:America/Denver
BEGIN:VTIMEZONE
TZID:America/Denver
BEGIN:STANDARD
TZNAME:MST
DTSTART:20301103T020000
TZOFFSETFROM:-0600
TZOFFSETTO:-0700
RDATE:20311102T020000
RDATE:20321107T020000
END:STANDARD
BEGIN:DAYLIGHT
TZNAME:MDT
DTSTART:20310309T020000
TZOFFSETFROM:-0700
TZOFFSETTO:-0600
RDATE:20320314T020000
RDATE:20330313T020000
END:DAYLIGHT
END:VTIMEZONE
BEGIN:VEVENT
UID:76b53216-f870-47e6-999f-f205d18f1c43
DTSTAMP:20260425T170822Z
DESCRIPTION:Create magical diamond art!
DTSTART;TZID=America/Denver:20311103T123000
DTEND;TZID=America/Denver:20311103T150000
LOCATION:7550 East Adobe Street\, Mesa\, AZ 85207 US
SUMMARY:Diamond Art
END:VEVENT
END:VCALENDAR
