BEGIN:VCALENDAR
VERSION:2.0
PRODID:-//www.asteraz.org//NONSGML kigkonsult.se iCalcreator 2.30.10//
CALSCALE:GREGORIAN
METHOD:PUBLISH
UID:ee086d53-0be5-4c49-9378-5d44ccaa5aee
X-WR-CALDESC:Join us at Aster's Downtown Mesa Senior Center every Friday to
  play Bingo for Cash. RSVP in advance to the Center\, spots are limited.
X-WR-RELCALID:4c68d63521491e326c2964cc6f833ccd
X-WR-TIMEZONE:America/Denver
BEGIN:VTIMEZONE
TZID:America/Denver
BEGIN:STANDARD
TZNAME:MST
DTSTART:20301103T020000
TZOFFSETFROM:-0600
TZOFFSETTO:-0700
RDATE:20311102T020000
RDATE:20321107T020000
END:STANDARD
BEGIN:DAYLIGHT
TZNAME:MDT
DTSTART:20310309T020000
TZOFFSETFROM:-0700
TZOFFSETTO:-0600
RDATE:20320314T020000
RDATE:20330313T020000
END:DAYLIGHT
END:VTIMEZONE
BEGIN:VEVENT
UID:e52ec919-a686-4a50-965e-ec4d66fcfb0f
DTSTAMP:20260425T154612Z
DESCRIPTION:Join us at Aster's Downtown Mesa Senior Center every Friday to 
 play Bingo for Cash. RSVP in advance to the Center\, spots are limited.
DTSTART;TZID=America/Denver:20311031T130000
DTEND;TZID=America/Denver:20311031T150000
LOCATION:247 N. Macdonald Street\, Mesa\, AZ 85201 US
SUMMARY:Bingo! For Money
END:VEVENT
END:VCALENDAR
