BEGIN:VCALENDAR
VERSION:2.0
PRODID:-//www.asteraz.org//NONSGML kigkonsult.se iCalcreator 2.30.10//
CALSCALE:GREGORIAN
METHOD:PUBLISH
UID:27aa9285-94e6-4a6f-83a9-b65b7a086436
X-WR-CALDESC:Facilitated by EMPACT. A bereavement support group for seniors
 . Connect with others who are grieving the loss of a loved one and connect
  with education and resources.
X-WR-RELCALID:5ed107a2ccf99068e14ef8dfad91d5cb
X-WR-TIMEZONE:America/Denver
BEGIN:VTIMEZONE
TZID:America/Denver
BEGIN:STANDARD
TZNAME:MST
DTSTART:20301103T020000
TZOFFSETFROM:-0600
TZOFFSETTO:-0700
RDATE:20311102T020000
RDATE:20321107T020000
END:STANDARD
BEGIN:DAYLIGHT
TZNAME:MDT
DTSTART:20310309T020000
TZOFFSETFROM:-0700
TZOFFSETTO:-0600
RDATE:20320314T020000
RDATE:20330313T020000
END:DAYLIGHT
END:VTIMEZONE
BEGIN:VEVENT
UID:ae2b1f49-78a1-4e82-9f24-2e8fce7780cd
DTSTAMP:20260425T153510Z
DESCRIPTION:Facilitated by EMPACT. A bereavement support group for seniors.
  Connect with others who are grieving the loss of a loved one and connect 
 with education and resources.
DTSTART;TZID=America/Denver:20311031T100000
DTEND;TZID=America/Denver:20311031T110000
LOCATION:7550 East Adobe Street\, Mesa\, AZ 85207 US
SUMMARY:Grief and Loss Support Group
END:VEVENT
END:VCALENDAR
