BEGIN:VCALENDAR
VERSION:2.0
PRODID:-//www.asteraz.org//NONSGML kigkonsult.se iCalcreator 2.30.10//
CALSCALE:GREGORIAN
METHOD:PUBLISH
UID:4961ce25-d326-4a1c-9353-0d3082af52a7
X-WR-CALDESC:Have fun creating jewelry\, origami\, and other arts and craft
 s.
X-WR-RELCALID:50a1b48bc91e81eea2d68fb04731d975
X-WR-TIMEZONE:America/Denver
BEGIN:VTIMEZONE
TZID:America/Denver
BEGIN:STANDARD
TZNAME:MST
DTSTART:20301103T020000
TZOFFSETFROM:-0600
TZOFFSETTO:-0700
RDATE:20311102T020000
RDATE:20321107T020000
END:STANDARD
BEGIN:DAYLIGHT
TZNAME:MDT
DTSTART:20310309T020000
TZOFFSETFROM:-0700
TZOFFSETTO:-0600
RDATE:20320314T020000
RDATE:20330313T020000
END:DAYLIGHT
END:VTIMEZONE
BEGIN:VEVENT
UID:ae9c8aaf-b700-4d4d-8bcf-39582e5518ae
DTSTAMP:20260425T153642Z
DESCRIPTION:Have fun creating jewelry\, origami\, and other arts and crafts
 .
DTSTART;TZID=America/Denver:20311031T090000
DTEND;TZID=America/Denver:20311031T110000
LOCATION:247 N. Macdonald Street\, Mesa\, AZ 85201 US
SUMMARY:Arts & Crafts
END:VEVENT
END:VCALENDAR
