BEGIN:VCALENDAR
VERSION:2.0
PRODID:-//www.asteraz.org//NONSGML kigkonsult.se iCalcreator 2.30.10//
CALSCALE:GREGORIAN
METHOD:PUBLISH
UID:c46f3c6b-b062-48a0-b8c0-a1d2ff9c5c9c
X-WR-CALDESC:Join your fellow artists and hobbyists as you have fun drawing
  portraits from live models. Capacity is limited. The class costs $5/perso
 n.
X-WR-RELCALID:e3febed1645bf6ddb80ce84d6841e4ce
X-WR-TIMEZONE:America/Denver
BEGIN:VTIMEZONE
TZID:America/Denver
BEGIN:STANDARD
TZNAME:MST
DTSTART:20301103T020000
TZOFFSETFROM:-0600
TZOFFSETTO:-0700
RDATE:20311102T020000
RDATE:20321107T020000
END:STANDARD
BEGIN:DAYLIGHT
TZNAME:MDT
DTSTART:20310309T020000
TZOFFSETFROM:-0700
TZOFFSETTO:-0600
RDATE:20320314T020000
RDATE:20330313T020000
END:DAYLIGHT
END:VTIMEZONE
BEGIN:VEVENT
UID:b403dc4b-7c3d-4a94-9fb2-4244fb46e763
DTSTAMP:20260425T154854Z
DESCRIPTION:Join your fellow artists and hobbyists as you have fun drawing 
 portraits from live models. Capacity is limited. The class costs $5/person
 .
DTSTART;TZID=America/Denver:20311031T083000
DTEND;TZID=America/Denver:20311031T123000
LOCATION:7550 East Adobe Street\, Mesa\, AZ 85207 US
SUMMARY:Portrait Painting Workshop
END:VEVENT
END:VCALENDAR
