BEGIN:VCALENDAR
VERSION:2.0
PRODID:-//www.asteraz.org//NONSGML kigkonsult.se iCalcreator 2.30.10//
CALSCALE:GREGORIAN
METHOD:PUBLISH
UID:720ff0af-32b2-400e-a230-45117b90f7bd
X-WR-CALDESC:
X-WR-RELCALID:653746107d31dbfc66d603830903920b
X-WR-TIMEZONE:America/Denver
BEGIN:VTIMEZONE
TZID:America/Denver
BEGIN:STANDARD
TZNAME:MST
DTSTART:20301103T020000
TZOFFSETFROM:-0600
TZOFFSETTO:-0700
RDATE:20311102T020000
RDATE:20321107T020000
END:STANDARD
BEGIN:DAYLIGHT
TZNAME:MDT
DTSTART:20310309T020000
TZOFFSETFROM:-0700
TZOFFSETTO:-0600
RDATE:20320314T020000
RDATE:20330313T020000
END:DAYLIGHT
END:VTIMEZONE
BEGIN:VEVENT
UID:04a56b2a-3c0e-4317-ae24-4de70f7be242
DTSTAMP:20260425T153456Z
DESCRIPTION:
DTSTART;TZID=America/Denver:20311031T000000
DTEND;TZID=America/Denver:20311101T005900
LOCATION:
SUMMARY:Halloween
END:VEVENT
END:VCALENDAR
