BEGIN:VCALENDAR
VERSION:2.0
PRODID:-//www.asteraz.org//NONSGML kigkonsult.se iCalcreator 2.30.10//
CALSCALE:GREGORIAN
METHOD:PUBLISH
UID:6f00b082-80ca-4d5e-ba2b-48dd0cfdd069
X-WR-CALDESC:Join us every Monday and Thursday at the Red Mountain Senior C
 enter for Diamond Art! Diamond Art is a relaxing artform that allows you t
 o make beautiful pictures\, dot by dot.
X-WR-RELCALID:10fa8fd57582f2454a2c4ecc9ee72838
X-WR-TIMEZONE:America/Denver
BEGIN:VTIMEZONE
TZID:America/Denver
BEGIN:STANDARD
TZNAME:MST
DTSTART:20301103T020000
TZOFFSETFROM:-0600
TZOFFSETTO:-0700
RDATE:20311102T020000
RDATE:20321107T020000
END:STANDARD
BEGIN:DAYLIGHT
TZNAME:MDT
DTSTART:20310309T020000
TZOFFSETFROM:-0700
TZOFFSETTO:-0600
RDATE:20320314T020000
RDATE:20330313T020000
END:DAYLIGHT
END:VTIMEZONE
BEGIN:VEVENT
UID:519d95f9-5ffa-49e5-93fe-b8c9f7ee83cf
DTSTAMP:20260425T153128Z
DESCRIPTION:Join us every Monday and Thursday at the Red Mountain Senior Ce
 nter for Diamond Art! Diamond Art is a relaxing artform that allows you to
  make beautiful pictures\, dot by dot.
DTSTART;TZID=America/Denver:20311030T123000
DTEND;TZID=America/Denver:20311030T150000
LOCATION:7550 East Adobe Street\, Mesa\, AZ 85207 US
SUMMARY:Diamond Art
END:VEVENT
END:VCALENDAR
