BEGIN:VCALENDAR
VERSION:2.0
PRODID:-//www.asteraz.org//NONSGML kigkonsult.se iCalcreator 2.30.10//
CALSCALE:GREGORIAN
METHOD:PUBLISH
UID:d1708607-2654-472a-9c7c-ca7237c8226f
X-WR-CALDESC:Create beautiful art facilitated by Mesa Art League. \n\nThe M
 esa Art League offers a Veterans' Outreach Art Program to Veterans and the
 ir families.\n\nMeets on the 1st\, 2nd and 4th Thursday of the Month.\n\n
X-WR-RELCALID:b30b8de19e64d03eac9fabbc9c9edf6e
X-WR-TIMEZONE:America/Denver
BEGIN:VTIMEZONE
TZID:America/Denver
BEGIN:STANDARD
TZNAME:MST
DTSTART:20301103T020000
TZOFFSETFROM:-0600
TZOFFSETTO:-0700
RDATE:20311102T020000
RDATE:20321107T020000
END:STANDARD
BEGIN:DAYLIGHT
TZNAME:MDT
DTSTART:20310309T020000
TZOFFSETFROM:-0700
TZOFFSETTO:-0600
RDATE:20320314T020000
RDATE:20330313T020000
END:DAYLIGHT
END:VTIMEZONE
BEGIN:VEVENT
UID:ea8056d6-48e9-4dce-9b31-520e92bfb86c
DTSTAMP:20260425T153910Z
DESCRIPTION:Create beautiful art facilitated by Mesa Art League. \n\nThe Me
 sa Art League offers a Veterans' Outreach Art Program to Veterans and thei
 r families.\n\nMeets on the 1st\, 2nd and 4th Thursday of the Month.\n\n
DTSTART;TZID=America/Denver:20311030T100000
DTEND;TZID=America/Denver:20311030T110000
LOCATION:Mesa Downtown
SUMMARY:DT Veterans Art
END:VEVENT
END:VCALENDAR
