BEGIN:VCALENDAR
VERSION:2.0
PRODID:-//www.asteraz.org//NONSGML kigkonsult.se iCalcreator 2.30.10//
CALSCALE:GREGORIAN
METHOD:PUBLISH
UID:0f15d503-9d83-4a6b-a4ce-0c1ce8e2cc51
X-WR-CALDESC:Get your morning moving in the right direction with some exerc
 ise! Form new friendships and a healthy routine with relaxing Morning Move
 ment.\n\nThis activity has a $2 fee.
X-WR-RELCALID:fd6b30259a8bc62f8c753548e5128bdb
X-WR-TIMEZONE:America/Denver
BEGIN:VTIMEZONE
TZID:America/Denver
BEGIN:STANDARD
TZNAME:MST
DTSTART:20301103T020000
TZOFFSETFROM:-0600
TZOFFSETTO:-0700
RDATE:20311102T020000
RDATE:20321107T020000
END:STANDARD
BEGIN:DAYLIGHT
TZNAME:MDT
DTSTART:20310309T020000
TZOFFSETFROM:-0700
TZOFFSETTO:-0600
RDATE:20320314T020000
RDATE:20330313T020000
END:DAYLIGHT
END:VTIMEZONE
BEGIN:VEVENT
UID:5d801851-8609-4ac0-873f-209c15d8d37e
DTSTAMP:20260425T155551Z
DESCRIPTION:Get your morning moving in the right direction with some exerci
 se! Form new friendships and a healthy routine with relaxing Morning Movem
 ent.\n\nThis activity has a $2 fee.
DTSTART;TZID=America/Denver:20311029T081500
DTEND;TZID=America/Denver:20311029T091500
LOCATION:247 N. Macdonald Street\, Mesa\, AZ 85201 US
SUMMARY:Morning Movement at the Downtown Senior Center
END:VEVENT
END:VCALENDAR
