BEGIN:VCALENDAR
VERSION:2.0
PRODID:-//www.asteraz.org//NONSGML kigkonsult.se iCalcreator 2.30.10//
CALSCALE:GREGORIAN
METHOD:PUBLISH
UID:7836f679-d57f-4f04-a484-8d69329a1978
X-WR-CALDESC:Learn about events and locations throughout history.\n\nCapaci
 ty is limited\, so RSVP to the Center today.
X-WR-RELCALID:2be5e01daf2b381d25061b76e25bd5db
X-WR-TIMEZONE:America/Denver
BEGIN:VTIMEZONE
TZID:America/Denver
BEGIN:STANDARD
TZNAME:MST
DTSTART:20301103T020000
TZOFFSETFROM:-0600
TZOFFSETTO:-0700
RDATE:20311102T020000
RDATE:20321107T020000
END:STANDARD
BEGIN:DAYLIGHT
TZNAME:MDT
DTSTART:20310309T020000
TZOFFSETFROM:-0700
TZOFFSETTO:-0600
RDATE:20320314T020000
RDATE:20330313T020000
END:DAYLIGHT
END:VTIMEZONE
BEGIN:VEVENT
UID:4b9e1102-b65e-4fab-b61f-13db6158a37d
DTSTAMP:20260425T152457Z
DESCRIPTION:Learn about events and locations throughout history.\n\nCapacit
 y is limited\, so RSVP to the Center today.
DTSTART;TZID=America/Denver:20311028T140000
DTEND;TZID=America/Denver:20311028T150000
LOCATION:247 N. Macdonald Street\, Mesa\, AZ 85201 US
SUMMARY:History Class
END:VEVENT
END:VCALENDAR
