BEGIN:VCALENDAR
VERSION:2.0
PRODID:-//www.asteraz.org//NONSGML kigkonsult.se iCalcreator 2.30.10//
CALSCALE:GREGORIAN
METHOD:PUBLISH
UID:c10b34e9-656b-493b-b9af-612ee30d893b
X-WR-CALDESC:Double Deck Pinochle is a fun trick-taking game played by 4 pl
 ayers. It combines a lot of fun elements like strategy\, memory and teamwo
 rk and requires an 80-card deck. It's open to beginners & experts!
X-WR-RELCALID:090dab97aba563da737ad5b4fccd3f8c
X-WR-TIMEZONE:America/Denver
BEGIN:VTIMEZONE
TZID:America/Denver
BEGIN:STANDARD
TZNAME:MST
DTSTART:20301103T020000
TZOFFSETFROM:-0600
TZOFFSETTO:-0700
RDATE:20311102T020000
RDATE:20321107T020000
END:STANDARD
BEGIN:DAYLIGHT
TZNAME:MDT
DTSTART:20310309T020000
TZOFFSETFROM:-0700
TZOFFSETTO:-0600
RDATE:20320314T020000
RDATE:20330313T020000
END:DAYLIGHT
END:VTIMEZONE
BEGIN:VEVENT
UID:0b244e45-fd4d-4e61-8bee-2d30f209c32a
DTSTAMP:20260425T153513Z
DESCRIPTION:Double Deck Pinochle is a fun trick-taking game played by 4 pla
 yers. It combines a lot of fun elements like strategy\, memory and teamwor
 k and requires an 80-card deck. It's open to beginners & experts!
DTSTART;TZID=America/Denver:20311028T123000
DTEND;TZID=America/Denver:20311028T153000
LOCATION:7550 East Adobe Street\, Mesa\, AZ 85207 US
SUMMARY:Double Deck Pinochle
END:VEVENT
END:VCALENDAR
