BEGIN:VCALENDAR
VERSION:2.0
PRODID:-//www.asteraz.org//NONSGML kigkonsult.se iCalcreator 2.30.10//
CALSCALE:GREGORIAN
METHOD:PUBLISH
UID:3e53a29e-680a-477f-b799-7f01740416e1
X-WR-CALDESC:Join us at the Aster Red Mountain Senior Center every Tuesday 
 and Thursday to play Bingo for Fun. RSVP in advance to reserve your spot.
X-WR-RELCALID:ca578cc9903a1172306d441e77a25f14
X-WR-TIMEZONE:America/Denver
BEGIN:VTIMEZONE
TZID:America/Denver
BEGIN:STANDARD
TZNAME:MST
DTSTART:20301103T020000
TZOFFSETFROM:-0600
TZOFFSETTO:-0700
RDATE:20311102T020000
RDATE:20321107T020000
END:STANDARD
BEGIN:DAYLIGHT
TZNAME:MDT
DTSTART:20310309T020000
TZOFFSETFROM:-0700
TZOFFSETTO:-0600
RDATE:20320314T020000
RDATE:20330313T020000
END:DAYLIGHT
END:VTIMEZONE
BEGIN:VEVENT
UID:7718e9e2-eb71-456b-8fd2-daad7c3e993b
DTSTAMP:20260425T155608Z
DESCRIPTION:Join us at the Aster Red Mountain Senior Center every Tuesday a
 nd Thursday to play Bingo for Fun. RSVP in advance to reserve your spot.
DTSTART;TZID=America/Denver:20311028T123000
DTEND;TZID=America/Denver:20311028T143000
LOCATION:7550 East Adobe Street\, Mesa\, AL 85207 US
SUMMARY:Bingo! For Fun at the Red Mountain Senior Center
END:VEVENT
END:VCALENDAR
