BEGIN:VCALENDAR
VERSION:2.0
PRODID:-//www.asteraz.org//NONSGML kigkonsult.se iCalcreator 2.30.10//
CALSCALE:GREGORIAN
METHOD:PUBLISH
UID:c46588d6-b11e-4be7-a991-856a4d3f95f4
X-WR-CALDESC:Take a colorful journey into the world of art. Enjoy studying 
 the visual arts\, including painting\, sculpture\, architecture\, and othe
 r forms through the lens of the 'Art in Action' class series.
X-WR-RELCALID:8728d41468bff79e6d6b7d4d85b08c78
X-WR-TIMEZONE:America/Denver
BEGIN:VTIMEZONE
TZID:America/Denver
BEGIN:STANDARD
TZNAME:MST
DTSTART:20301103T020000
TZOFFSETFROM:-0600
TZOFFSETTO:-0700
RDATE:20311102T020000
RDATE:20321107T020000
END:STANDARD
BEGIN:DAYLIGHT
TZNAME:MDT
DTSTART:20310309T020000
TZOFFSETFROM:-0700
TZOFFSETTO:-0600
RDATE:20320314T020000
RDATE:20330313T020000
END:DAYLIGHT
END:VTIMEZONE
BEGIN:VEVENT
UID:6902a1da-4640-42b6-a89b-f149fe3d9535
DTSTAMP:20260425T153454Z
DESCRIPTION:Take a colorful journey into the world of art. Enjoy studying t
 he visual arts\, including painting\, sculpture\, architecture\, and other
  forms through the lens of the 'Art in Action' class series.
DTSTART;TZID=America/Denver:20311028T093000
DTEND;TZID=America/Denver:20311028T103000
LOCATION:247 N. Macdonald Street\, Mesa\, AZ 85201 US
SUMMARY:Art in Action
END:VEVENT
END:VCALENDAR
