BEGIN:VCALENDAR
VERSION:2.0
PRODID:-//www.asteraz.org//NONSGML kigkonsult.se iCalcreator 2.30.10//
CALSCALE:GREGORIAN
METHOD:PUBLISH
UID:452dc06c-4954-4d6d-90c6-387d7eb47072
X-WR-CALDESC:Learn to enhance your strength\, balance\, and spiritual healt
 h with this indoor Tai Chi class. The class for advanced practitioners beg
 ins at 8:30 am while beginner Tai Chi begins at 10:00 am. \n\nCost varies.
  Inquire directly to learn more.\n\nCapacity is limited - RSVP to secure y
 our spot.
X-WR-RELCALID:eee34f6f38d19148827a13b28e9b8806
X-WR-TIMEZONE:America/Denver
BEGIN:VTIMEZONE
TZID:America/Denver
BEGIN:STANDARD
TZNAME:MST
DTSTART:20301103T020000
TZOFFSETFROM:-0600
TZOFFSETTO:-0700
RDATE:20311102T020000
RDATE:20321107T020000
END:STANDARD
BEGIN:DAYLIGHT
TZNAME:MDT
DTSTART:20310309T020000
TZOFFSETFROM:-0700
TZOFFSETTO:-0600
RDATE:20320314T020000
RDATE:20330313T020000
END:DAYLIGHT
END:VTIMEZONE
BEGIN:VEVENT
UID:d61d45f0-afc0-4a05-b51a-21705301e20a
DTSTAMP:20260425T153602Z
DESCRIPTION:Learn to enhance your strength\, balance\, and spiritual health
  with this indoor Tai Chi class. The class for advanced practitioners begi
 ns at 8:30 am while beginner Tai Chi begins at 10:00 am. \n\nCost varies. 
 Inquire directly to learn more.\n\nCapacity is limited - RSVP to secure yo
 ur spot.
DTSTART;TZID=America/Denver:20311027T083000
DTEND;TZID=America/Denver:20311027T100000
LOCATION:Mesa Downtown Senior Center
SUMMARY:DT Tai Chi - Begin & Adv
END:VEVENT
END:VCALENDAR
