BEGIN:VCALENDAR
VERSION:2.0
PRODID:-//www.asteraz.org//NONSGML kigkonsult.se iCalcreator 2.30.10//
CALSCALE:GREGORIAN
METHOD:PUBLISH
UID:7e7283c4-4286-4d2d-b11b-81363222d358
X-WR-CALDESC:Join your fellow artists and hobbyists as you have fun drawing
  portraits from live models. Capacity is limited. The class costs $5/perso
 n.
X-WR-RELCALID:e74ed97f73da3e2f7428d8ddae782e56
X-WR-TIMEZONE:America/Denver
BEGIN:VTIMEZONE
TZID:America/Denver
BEGIN:STANDARD
TZNAME:MST
DTSTART:20301103T020000
TZOFFSETFROM:-0600
TZOFFSETTO:-0700
RDATE:20311102T020000
RDATE:20321107T020000
END:STANDARD
BEGIN:DAYLIGHT
TZNAME:MDT
DTSTART:20310309T020000
TZOFFSETFROM:-0700
TZOFFSETTO:-0600
RDATE:20320314T020000
RDATE:20330313T020000
END:DAYLIGHT
END:VTIMEZONE
BEGIN:VEVENT
UID:72bd0189-69ca-42af-9f69-4d4ad8141438
DTSTAMP:20260425T154710Z
DESCRIPTION:Join your fellow artists and hobbyists as you have fun drawing 
 portraits from live models. Capacity is limited. The class costs $5/person
 .
DTSTART;TZID=America/Denver:20311024T083000
DTEND;TZID=America/Denver:20311024T123000
LOCATION:7550 East Adobe Street\, Mesa\, AZ 85207 US
SUMMARY:Portrait Painting Workshop
END:VEVENT
END:VCALENDAR
