BEGIN:VCALENDAR
VERSION:2.0
PRODID:-//www.asteraz.org//NONSGML kigkonsult.se iCalcreator 2.30.10//
CALSCALE:GREGORIAN
METHOD:PUBLISH
UID:0b118747-1418-4091-bb4f-cc5c92059961
X-WR-CALDESC:Ever wanted to try your hand at acting? Here's your chance! Jo
 in our Senior Players group every Thursday to test out your acting chops -
  no experience needed\, and all are welcome!
X-WR-RELCALID:3db89d6cdb3bb1f0b744f45f10f88dde
X-WR-TIMEZONE:America/Denver
BEGIN:VTIMEZONE
TZID:America/Denver
BEGIN:STANDARD
TZNAME:MST
DTSTART:20301103T020000
TZOFFSETFROM:-0600
TZOFFSETTO:-0700
RDATE:20311102T020000
RDATE:20321107T020000
END:STANDARD
BEGIN:DAYLIGHT
TZNAME:MDT
DTSTART:20310309T020000
TZOFFSETFROM:-0700
TZOFFSETTO:-0600
RDATE:20320314T020000
RDATE:20330313T020000
END:DAYLIGHT
END:VTIMEZONE
BEGIN:VEVENT
UID:51765e92-f093-4d10-916e-ac3cdc6bf537
DTSTAMP:20260425T153649Z
DESCRIPTION:Ever wanted to try your hand at acting? Here's your chance! Joi
 n our Senior Players group every Thursday to test out your acting chops - 
 no experience needed\, and all are welcome!
DTSTART;TZID=America/Denver:20311023T130000
DTEND;TZID=America/Denver:20311023T140000
LOCATION:247 N. Macdonald Street\, Mesa\, AZ 85201 US
SUMMARY:Senior Players Theater Group
END:VEVENT
END:VCALENDAR
