BEGIN:VCALENDAR
VERSION:2.0
PRODID:-//www.asteraz.org//NONSGML kigkonsult.se iCalcreator 2.30.10//
CALSCALE:GREGORIAN
METHOD:PUBLISH
UID:987d33aa-8d6e-4c25-af8d-7c7f7431a85a
X-WR-CALDESC:Join us at Mesa Downtown every Thursday for Open Art Studio! Y
 ou will be in great company with a group of other artists who come and pai
 nt together\, sharing their work and experience. No experience needed! \n
 \nBring your own supplies.
X-WR-RELCALID:bfc0fa7e97aa66b3b8204ab14b7fbf49
X-WR-TIMEZONE:America/Denver
BEGIN:VTIMEZONE
TZID:America/Denver
BEGIN:STANDARD
TZNAME:MST
DTSTART:20301103T020000
TZOFFSETFROM:-0600
TZOFFSETTO:-0700
RDATE:20311102T020000
RDATE:20321107T020000
END:STANDARD
BEGIN:DAYLIGHT
TZNAME:MDT
DTSTART:20310309T020000
TZOFFSETFROM:-0700
TZOFFSETTO:-0600
RDATE:20320314T020000
RDATE:20330313T020000
END:DAYLIGHT
END:VTIMEZONE
BEGIN:VEVENT
UID:b66a16e8-af3a-4c9b-b0af-210d24a86341
DTSTAMP:20260425T153455Z
DESCRIPTION:Join us at Mesa Downtown every Thursday for Open Art Studio! Yo
 u will be in great company with a group of other artists who come and pain
 t together\, sharing their work and experience. No experience needed! \n\n
 Bring your own supplies.
DTSTART;TZID=America/Denver:20311023T080000
DTEND;TZID=America/Denver:20311023T133000
LOCATION:247 N. Macdonald Street\, Mesa\, AZ 85201 US
SUMMARY:Open Art Studio @ Mesa Downtown
END:VEVENT
END:VCALENDAR
