BEGIN:VCALENDAR
VERSION:2.0
PRODID:-//www.asteraz.org//NONSGML kigkonsult.se iCalcreator 2.30.10//
CALSCALE:GREGORIAN
METHOD:PUBLISH
UID:47da098f-6baa-4213-adb9-1dd2f2d6b0be
X-WR-CALDESC:Join us every Wednesday afternoon to play card and board games
 . Which games? You'll have to join us to find out!
X-WR-RELCALID:5f21cf7a28307db48de5e3d5ca17e86e
X-WR-TIMEZONE:America/Denver
BEGIN:VTIMEZONE
TZID:America/Denver
BEGIN:STANDARD
TZNAME:MST
DTSTART:20301103T020000
TZOFFSETFROM:-0600
TZOFFSETTO:-0700
RDATE:20311102T020000
RDATE:20321107T020000
END:STANDARD
BEGIN:DAYLIGHT
TZNAME:MDT
DTSTART:20310309T020000
TZOFFSETFROM:-0700
TZOFFSETTO:-0600
RDATE:20320314T020000
RDATE:20330313T020000
END:DAYLIGHT
END:VTIMEZONE
BEGIN:VEVENT
UID:4e2cd3dc-d1b4-4b96-99de-f756078d1734
DTSTAMP:20260425T153808Z
DESCRIPTION:Join us every Wednesday afternoon to play card and board games.
  Which games? You'll have to join us to find out!
DTSTART;TZID=America/Denver:20311022T123000
DTEND;TZID=America/Denver:20311022T150000
LOCATION:7550 East Adobe Street\, Mesa\, AZ 85207 US
SUMMARY:Whatever Games We Play
END:VEVENT
END:VCALENDAR
