BEGIN:VCALENDAR
VERSION:2.0
PRODID:-//www.asteraz.org//NONSGML kigkonsult.se iCalcreator 2.30.10//
CALSCALE:GREGORIAN
METHOD:PUBLISH
UID:feb594d5-9af3-4d30-ab7d-397cab3e0703
X-WR-CALDESC:Bedazzle rubber ducks in this fun and unique class every Wedne
 sday! \n\nCost: supplies
X-WR-RELCALID:84dbd9813c3cdedb9bdf78100e49c376
X-WR-TIMEZONE:America/Denver
BEGIN:VTIMEZONE
TZID:America/Denver
BEGIN:STANDARD
TZNAME:MST
DTSTART:20301103T020000
TZOFFSETFROM:-0600
TZOFFSETTO:-0700
RDATE:20311102T020000
RDATE:20321107T020000
END:STANDARD
BEGIN:DAYLIGHT
TZNAME:MDT
DTSTART:20310309T020000
TZOFFSETFROM:-0700
TZOFFSETTO:-0600
RDATE:20320314T020000
RDATE:20330313T020000
END:DAYLIGHT
END:VTIMEZONE
BEGIN:VEVENT
UID:a9980e66-95f9-4d39-9f6c-7edb7fd87ccf
DTSTAMP:20260425T154321Z
DESCRIPTION:Bedazzle rubber ducks in this fun and unique class every Wednes
 day! \n\nCost: supplies
DTSTART;TZID=America/Denver:20311022T123000
DTEND;TZID=America/Denver:20311022T150000
LOCATION:7550 East Adobe Street\, Mesa\, AZ 85207 US
SUMMARY:Diamond Art Duckies
END:VEVENT
END:VCALENDAR
