BEGIN:VCALENDAR
VERSION:2.0
PRODID:-//www.asteraz.org//NONSGML kigkonsult.se iCalcreator 2.30.10//
CALSCALE:GREGORIAN
METHOD:PUBLISH
UID:58385117-78c3-4064-b6a4-6df9949eb1f6
X-WR-CALDESC:Cost: $25/month plus supplies\n\nJoin us for an adventure in a
 ll things quilting! Instructor Clarice will teach quilters of all levels. 
 Limited spots\, RSVP for more info.
X-WR-RELCALID:7d10bd12162a9fc47b3cfd8ef433e9a9
X-WR-TIMEZONE:America/Denver
BEGIN:VTIMEZONE
TZID:America/Denver
BEGIN:STANDARD
TZNAME:MST
DTSTART:20301103T020000
TZOFFSETFROM:-0600
TZOFFSETTO:-0700
RDATE:20311102T020000
RDATE:20321107T020000
END:STANDARD
BEGIN:DAYLIGHT
TZNAME:MDT
DTSTART:20310309T020000
TZOFFSETFROM:-0700
TZOFFSETTO:-0600
RDATE:20320314T020000
RDATE:20330313T020000
END:DAYLIGHT
END:VTIMEZONE
BEGIN:VEVENT
UID:07ca2667-5683-4b43-9036-ed3394d070b2
DTSTAMP:20260425T152455Z
DESCRIPTION:Cost: $25/month plus supplies\n\nJoin us for an adventure in al
 l things quilting! Instructor Clarice will teach quilters of all levels. L
 imited spots\, RSVP for more info.
DTSTART;TZID=America/Denver:20311022T120000
DTEND;TZID=America/Denver:20311022T150000
LOCATION:247 N. Macdonald Street\, Mesa\, AZ 85201 US
SUMMARY:Quilting Class
END:VEVENT
END:VCALENDAR
