BEGIN:VCALENDAR
VERSION:2.0
PRODID:-//www.asteraz.org//NONSGML kigkonsult.se iCalcreator 2.30.10//
CALSCALE:GREGORIAN
METHOD:PUBLISH
UID:ef59c6dd-f0bf-4a55-916d-653ad81bac49
X-WR-CALDESC:Our female participants come together for friendship & fun eve
 ry first and third Wednesday of the month.
X-WR-RELCALID:94e985fdf9e9e5c9990970ebf77d5032
X-WR-TIMEZONE:America/Denver
BEGIN:VTIMEZONE
TZID:America/Denver
BEGIN:STANDARD
TZNAME:MST
DTSTART:20301103T020000
TZOFFSETFROM:-0600
TZOFFSETTO:-0700
RDATE:20311102T020000
RDATE:20321107T020000
END:STANDARD
BEGIN:DAYLIGHT
TZNAME:MDT
DTSTART:20310309T020000
TZOFFSETFROM:-0700
TZOFFSETTO:-0600
RDATE:20320314T020000
RDATE:20330313T020000
END:DAYLIGHT
END:VTIMEZONE
BEGIN:VEVENT
UID:b32bcd0a-4ff8-4261-b18d-6ed866ed8ca9
DTSTAMP:20260425T154322Z
DESCRIPTION:Our female participants come together for friendship & fun ever
 y first and third Wednesday of the month.
DTSTART;TZID=America/Denver:20311022T093000
DTEND;TZID=America/Denver:20311022T103000
LOCATION:7550 East Adobe Street\, Mesa\, AZ 85207 US
SUMMARY:The Golden Gals
END:VEVENT
END:VCALENDAR
