BEGIN:VCALENDAR
VERSION:2.0
PRODID:-//www.asteraz.org//NONSGML kigkonsult.se iCalcreator 2.30.10//
CALSCALE:GREGORIAN
METHOD:PUBLISH
UID:1f09d6ec-bf76-4432-9c30-485921cb8623
X-WR-CALDESC:Take a colorful journey into the world of art. Enjoy studying 
 the visual arts\, including painting\, sculpture\, architecture\, and othe
 r forms through the lens of the 'Art in Action' class series.
X-WR-RELCALID:888c6b0b9c9a6301baa3bc0d900ba9d7
X-WR-TIMEZONE:America/Denver
BEGIN:VTIMEZONE
TZID:America/Denver
BEGIN:STANDARD
TZNAME:MST
DTSTART:20301103T020000
TZOFFSETFROM:-0600
TZOFFSETTO:-0700
RDATE:20311102T020000
RDATE:20321107T020000
END:STANDARD
BEGIN:DAYLIGHT
TZNAME:MDT
DTSTART:20310309T020000
TZOFFSETFROM:-0700
TZOFFSETTO:-0600
RDATE:20320314T020000
RDATE:20330313T020000
END:DAYLIGHT
END:VTIMEZONE
BEGIN:VEVENT
UID:cdf25cbd-2b27-4834-894e-8a9382f4e015
DTSTAMP:20260425T152701Z
DESCRIPTION:Take a colorful journey into the world of art. Enjoy studying t
 he visual arts\, including painting\, sculpture\, architecture\, and other
  forms through the lens of the 'Art in Action' class series.
DTSTART;TZID=America/Denver:20311021T093000
DTEND;TZID=America/Denver:20311021T103000
LOCATION:247 N. Macdonald Street\, Mesa\, AZ 85201 US
SUMMARY:Art in Action
END:VEVENT
END:VCALENDAR
