BEGIN:VCALENDAR
VERSION:2.0
PRODID:-//www.asteraz.org//NONSGML kigkonsult.se iCalcreator 2.30.10//
CALSCALE:GREGORIAN
METHOD:PUBLISH
UID:a85f002c-4a50-4b35-88cc-eebea958bcf3
X-WR-CALDESC:Enjoy good company while crafting creative pieces.
X-WR-RELCALID:b3584faa9cf361cf00351bd752d81b02
X-WR-TIMEZONE:America/Denver
BEGIN:VTIMEZONE
TZID:America/Denver
BEGIN:STANDARD
TZNAME:MST
DTSTART:20301103T020000
TZOFFSETFROM:-0600
TZOFFSETTO:-0700
RDATE:20311102T020000
RDATE:20321107T020000
END:STANDARD
BEGIN:DAYLIGHT
TZNAME:MDT
DTSTART:20310309T020000
TZOFFSETFROM:-0700
TZOFFSETTO:-0600
RDATE:20320314T020000
RDATE:20330313T020000
END:DAYLIGHT
END:VTIMEZONE
BEGIN:VEVENT
UID:ca30292d-e431-4242-ac62-ed8012cdb918
DTSTAMP:20260425T154442Z
DESCRIPTION:Enjoy good company while crafting creative pieces.
DTSTART;TZID=America/Denver:20311021T083000
DTEND;TZID=America/Denver:20311021T120000
LOCATION:7550 East Adobe Street\, Mesa\, AZ 85207 US
SUMMARY:Stitch & Chat at the Aster Red Mountain Senior Center
END:VEVENT
END:VCALENDAR
