BEGIN:VCALENDAR
VERSION:2.0
PRODID:-//www.asteraz.org//NONSGML kigkonsult.se iCalcreator 2.30.10//
CALSCALE:GREGORIAN
METHOD:PUBLISH
UID:b7785152-18f8-4f09-863e-8171133f4700
X-WR-CALDESC:Have fun singing golden-oldies or just watching others try in 
 this judgment free zone.
X-WR-RELCALID:f477264e3ad941395f0317b101291c0d
X-WR-TIMEZONE:America/Denver
BEGIN:VTIMEZONE
TZID:America/Denver
BEGIN:STANDARD
TZNAME:MST
DTSTART:20301103T020000
TZOFFSETFROM:-0600
TZOFFSETTO:-0700
RDATE:20311102T020000
RDATE:20321107T020000
END:STANDARD
BEGIN:DAYLIGHT
TZNAME:MDT
DTSTART:20310309T020000
TZOFFSETFROM:-0700
TZOFFSETTO:-0600
RDATE:20320314T020000
RDATE:20330313T020000
END:DAYLIGHT
END:VTIMEZONE
BEGIN:VEVENT
UID:f146e2e3-fe81-40d1-8bf8-a033aa481ca6
DTSTAMP:20260425T154322Z
DESCRIPTION:Have fun singing golden-oldies or just watching others try in t
 his judgment free zone.
DTSTART;TZID=America/Denver:20311020T123000
DTEND;TZID=America/Denver:20311020T133000
LOCATION:Mesa Downtown
SUMMARY:DT Karaoke Mondays
END:VEVENT
END:VCALENDAR
