BEGIN:VCALENDAR
VERSION:2.0
PRODID:-//www.asteraz.org//NONSGML kigkonsult.se iCalcreator 2.30.10//
CALSCALE:GREGORIAN
METHOD:PUBLISH
UID:b318563e-10db-4ed9-8a76-c63a5226acda
X-WR-CALDESC:Facilitated by EMPACT. A bereavement support group for seniors
 . Connect with others who are grieving the loss of a loved one and connect
  with education and resources.
X-WR-RELCALID:ba98af754c61d8e82e7a8615be1d34f8
X-WR-TIMEZONE:America/Denver
BEGIN:VTIMEZONE
TZID:America/Denver
BEGIN:STANDARD
TZNAME:MST
DTSTART:20301103T020000
TZOFFSETFROM:-0600
TZOFFSETTO:-0700
RDATE:20311102T020000
RDATE:20321107T020000
END:STANDARD
BEGIN:DAYLIGHT
TZNAME:MDT
DTSTART:20310309T020000
TZOFFSETFROM:-0700
TZOFFSETTO:-0600
RDATE:20320314T020000
RDATE:20330313T020000
END:DAYLIGHT
END:VTIMEZONE
BEGIN:VEVENT
UID:125cf5b2-1e67-4fee-a803-b04121127532
DTSTAMP:20260425T153511Z
DESCRIPTION:Facilitated by EMPACT. A bereavement support group for seniors.
  Connect with others who are grieving the loss of a loved one and connect 
 with education and resources.
DTSTART;TZID=America/Denver:20311017T100000
DTEND;TZID=America/Denver:20311017T110000
LOCATION:7550 East Adobe Street\, Mesa\, AZ 85207 US
SUMMARY:Grief and Loss Support Group
END:VEVENT
END:VCALENDAR
